BEGIN:VCALENDAR
VERSION:2.0
PRODID:icalendar-ruby
CALSCALE:GREGORIAN
BEGIN:VEVENT
DTSTAMP:20260422T142409Z
UID:cfd5f565-7f7d-48e8-ae44-51857c6f937b
DTSTART;TZID=Pacific/Auckland:20260426T111500
DTEND;TZID=Pacific/Auckland:20260426T120000
DESCRIPTION:Property ID# 606797
SUMMARY:Openhome for 46 Veitches Road
END:VEVENT
END:VCALENDAR
