BEGIN:VCALENDAR
VERSION:2.0
PRODID:icalendar-ruby
CALSCALE:GREGORIAN
BEGIN:VEVENT
DTSTAMP:20260419T131315Z
UID:ae9cc640-747c-4918-b98d-372f802f6cbb
DTSTART;TZID=Pacific/Auckland:20260419T130000
DTEND;TZID=Pacific/Auckland:20260419T133000
DESCRIPTION:Property ID# 606713
SUMMARY:Openhome for 11 Moreton Green
END:VEVENT
END:VCALENDAR
