BEGIN:VCALENDAR
VERSION:2.0
PRODID:icalendar-ruby
CALSCALE:GREGORIAN
BEGIN:VEVENT
DTSTAMP:20260423T142122Z
UID:7feb7824-1475-4803-b2db-eacc1daa2eef
DTSTART;VALUE=DATE:20260514
DESCRIPTION:Property ID# 606883\, Locatoin: 471 Papanui Road\, Gold Auction
  Rooms (USP)\, Time: 10:00AM
SUMMARY:Auction for 12 Marble Wood Drive
END:VEVENT
END:VCALENDAR
