BEGIN:VCALENDAR
VERSION:2.0
PRODID:icalendar-ruby
CALSCALE:GREGORIAN
BEGIN:VEVENT
DTSTAMP:20260425T144340Z
UID:45d2f301-74e5-4342-bbb8-2b3863b318fa
DTSTART;VALUE=DATE:20260312
DESCRIPTION:Property ID# 603134\, Locatoin: Onsite (unless sold prior)\, Ti
 me: 4:00PM
SUMMARY:Auction for 
END:VEVENT
END:VCALENDAR
