BEGIN:VCALENDAR
VERSION:2.0
PRODID:icalendar-ruby
CALSCALE:GREGORIAN
BEGIN:VEVENT
DTSTAMP:20260425T144718Z
UID:ac3f81d2-f082-4767-b5e0-51e16ca82983
DTSTART;VALUE=DATE:20260303
DESCRIPTION:Property ID# 603132\, Locatoin: The George Hotel (unless sold p
 rior)\, Time: 4:00PM
SUMMARY:Auction for 
END:VEVENT
END:VCALENDAR
