BEGIN:VCALENDAR
VERSION:2.0
PRODID:icalendar-ruby
CALSCALE:GREGORIAN
BEGIN:VEVENT
DTSTAMP:20260421T054202Z
UID:f7a432fb-f9fc-43f1-8904-a0fc5e02d1e8
DTSTART;VALUE=DATE:20260216
DESCRIPTION:Property ID# 602496\, Time: 4:00PM
SUMMARY:Auction for 48 Acacia Avenue
END:VEVENT
END:VCALENDAR
