BEGIN:VCALENDAR
VERSION:2.0
PRODID:icalendar-ruby
CALSCALE:GREGORIAN
BEGIN:VEVENT
DTSTAMP:20260422T091002Z
UID:cf596dd3-7394-4454-86cb-cec144cbde3b
DTSTART;VALUE=DATE:20260212
DESCRIPTION:Property ID# 602304\, Locatoin: Grenadier House\, 98 Moorhouse 
 Avenue (unless sold prior)\, Time: 11:00AM
SUMMARY:Auction for 
END:VEVENT
END:VCALENDAR
