BEGIN:VCALENDAR
VERSION:2.0
PRODID:icalendar-ruby
CALSCALE:GREGORIAN
BEGIN:VEVENT
DTSTAMP:20260425T144913Z
UID:dc308ae8-d304-425e-8dbc-cd417cc73a3c
DTSTART;VALUE=DATE:20251120
DESCRIPTION:Property ID# 599489\, Locatoin: Onsite\, Time: 2:00PM
SUMMARY:Auction for 
END:VEVENT
END:VCALENDAR
