BEGIN:VCALENDAR
VERSION:2.0
PRODID:icalendar-ruby
CALSCALE:GREGORIAN
BEGIN:VEVENT
DTSTAMP:20260422T091002Z
UID:bd76f6eb-2fb8-4fc5-b10d-e7eb41eae515
DTSTART;VALUE=DATE:20251016
DESCRIPTION:Property ID# 597860\, Locatoin: Harcourts Grenadier 98 Moorhous
 e Avenue\, Time: 11:00AM
SUMMARY:Auction for 
END:VEVENT
END:VCALENDAR
