BEGIN:VCALENDAR
VERSION:2.0
PRODID:icalendar-ruby
CALSCALE:GREGORIAN
BEGIN:VEVENT
DTSTAMP:20260424T090012Z
UID:f780af64-0d35-408a-8a64-0365fc2ce836
DTSTART;VALUE=DATE:20251009
DESCRIPTION:Property ID# 597342\, Locatoin: Harcourts Grenadier 98 Moorhous
 e Avenue\, Time: 11:00AM
SUMMARY:Auction for 
END:VEVENT
END:VCALENDAR
