BEGIN:VCALENDAR
VERSION:2.0
PRODID:icalendar-ruby
CALSCALE:GREGORIAN
BEGIN:VEVENT
DTSTAMP:20260422T105216Z
UID:3294c009-1312-4e44-9078-20d7cd8bc00c
DTSTART;VALUE=DATE:20251001
DESCRIPTION:Property ID# 597211\, Time: 4:00PM
SUMMARY:Auction for 
END:VEVENT
END:VCALENDAR
