BEGIN:VCALENDAR
VERSION:2.0
PRODID:icalendar-ruby
CALSCALE:GREGORIAN
BEGIN:VEVENT
DTSTAMP:20260425T150318Z
UID:2e00c244-a9fb-40b8-87e5-d78e5962d063
DTSTART;VALUE=DATE:20251011
DESCRIPTION:Property ID# 596949\, Locatoin: Onsite (unless sold prior)\, Ti
 me: 12:00PM
SUMMARY:Auction for 
END:VEVENT
END:VCALENDAR
