BEGIN:VCALENDAR
VERSION:2.0
PRODID:icalendar-ruby
CALSCALE:GREGORIAN
BEGIN:VEVENT
DTSTAMP:20260425T150845Z
UID:2c2a17af-2497-4b62-9cb8-e0bac7e85851
DTSTART;VALUE=DATE:20251008
DESCRIPTION:Property ID# 596857\, Time: 4:00PM
SUMMARY:Auction for 
END:VEVENT
END:VCALENDAR
