BEGIN:VCALENDAR
VERSION:2.0
PRODID:icalendar-ruby
CALSCALE:GREGORIAN
BEGIN:VEVENT
DTSTAMP:20260425T150252Z
UID:07828a5e-2992-4c4b-b651-9dbb864e7ea2
DTSTART;VALUE=DATE:20250917
DESCRIPTION:Property ID# 596640\, Time: 2:00PM
SUMMARY:Auction for 
END:VEVENT
END:VCALENDAR
