BEGIN:VCALENDAR
VERSION:2.0
PRODID:icalendar-ruby
CALSCALE:GREGORIAN
BEGIN:VEVENT
DTSTAMP:20260425T145513Z
UID:e9db5d7e-4dbb-4f50-915d-918c1c7b3d7b
DTSTART;VALUE=DATE:20250918
DESCRIPTION:Property ID# 596498\, Locatoin: Onsite (unless sold prior)\, Ti
 me: 6:00PM
SUMMARY:Auction for 
END:VEVENT
END:VCALENDAR
