BEGIN:VCALENDAR
VERSION:2.0
PRODID:icalendar-ruby
CALSCALE:GREGORIAN
BEGIN:VEVENT
DTSTAMP:20260425T144206Z
UID:1aa0ef1c-e3e2-416d-b286-908ef47e6e0d
DTSTART;VALUE=DATE:20250908
DESCRIPTION:Property ID# 596085\, Time: 4:00PM
SUMMARY:Auction for 
END:VEVENT
END:VCALENDAR
