BEGIN:VCALENDAR
VERSION:2.0
PRODID:icalendar-ruby
CALSCALE:GREGORIAN
BEGIN:VEVENT
DTSTAMP:20260425T150113Z
UID:42044937-aa73-402b-bb47-86532683e290
DTSTART;VALUE=DATE:20250821
DESCRIPTION:Property ID# 595719\, Time: 4:00PM
SUMMARY:Auction for 
END:VEVENT
END:VCALENDAR
