BEGIN:VCALENDAR
VERSION:2.0
PRODID:icalendar-ruby
CALSCALE:GREGORIAN
BEGIN:VEVENT
DTSTAMP:20260421T121009Z
UID:80b4c992-6141-41b8-b2d5-0532cc716501
DTSTART;VALUE=DATE:20250522
DESCRIPTION:Property ID# 592032\, Locatoin: 98 Moorhouse Ave\, Christchurch
 \, Time: 11:00AM
SUMMARY:Auction for 
END:VEVENT
END:VCALENDAR
