BEGIN:VCALENDAR
VERSION:2.0
PRODID:icalendar-ruby
CALSCALE:GREGORIAN
BEGIN:VEVENT
DTSTAMP:20260425T150844Z
UID:34cbed48-d26c-4748-982e-5196c26f9868
DTSTART;VALUE=DATE:20250517
DESCRIPTION:Property ID# 591888\, Locatoin: Onsite (unless sold prior)\, Ti
 me: 12:00PM
SUMMARY:Auction for 
END:VEVENT
END:VCALENDAR
