BEGIN:VCALENDAR
VERSION:2.0
PRODID:icalendar-ruby
CALSCALE:GREGORIAN
BEGIN:VEVENT
DTSTAMP:20260419T115829Z
UID:d03965c1-fb6a-4a58-8bba-2d4f6d8fb288
DTSTART;VALUE=DATE:20250515
DESCRIPTION:Property ID# 591863\, Locatoin: Harcourts Grenadier 98 Moorhous
 e Avenue\, Time: 11:00AM
SUMMARY:Auction for 
END:VEVENT
END:VCALENDAR
