BEGIN:VCALENDAR
VERSION:2.0
PRODID:icalendar-ruby
CALSCALE:GREGORIAN
BEGIN:VEVENT
DTSTAMP:20260421T055011Z
UID:5617aa68-810d-4775-a10e-18889f60a56f
DTSTART;VALUE=DATE:20250304
DESCRIPTION:Property ID# 587757\, Time: 4:00PM
SUMMARY:Auction for 
END:VEVENT
END:VCALENDAR
