BEGIN:VCALENDAR
VERSION:2.0
PRODID:icalendar-ruby
CALSCALE:GREGORIAN
BEGIN:VEVENT
DTSTAMP:20260419T115151Z
UID:b4cc0705-0e36-4a80-8a46-863ab2d351b6
DTSTART;VALUE=DATE:20241121
DESCRIPTION:Property ID# 583098\, Locatoin: Harcourts Gold Papanui\, 471 Pa
 panui Road\, Papanui (unless sold prior)\, Time: 10:00AM
SUMMARY:Auction for 
END:VEVENT
END:VCALENDAR
