BEGIN:VCALENDAR
VERSION:2.0
PRODID:icalendar-ruby
CALSCALE:GREGORIAN
BEGIN:VEVENT
DTSTAMP:20260420T093403Z
UID:b7a6cffa-8904-4669-a927-8b44f5ea37e2
DTSTART;VALUE=DATE:20241001
DESCRIPTION:Property ID# 580997\, Time: 2:00PM
SUMMARY:Auction for 
END:VEVENT
END:VCALENDAR
