BEGIN:VCALENDAR
VERSION:2.0
PRODID:icalendar-ruby
CALSCALE:GREGORIAN
BEGIN:VEVENT
DTSTAMP:20260423T110308Z
UID:0d2befc0-a19e-41bc-b257-a0d2b2272500
DTSTART;VALUE=DATE:20240625
DESCRIPTION:Property ID# 576792\, Time: 12:00PM
SUMMARY:Auction for 
END:VEVENT
END:VCALENDAR
