BEGIN:VCALENDAR
VERSION:2.0
PRODID:icalendar-ruby
CALSCALE:GREGORIAN
BEGIN:VEVENT
DTSTAMP:20260419T120619Z
UID:6d5bcb35-c3c3-4238-afa8-bf2ade0a01f6
DTSTART;VALUE=DATE:20240613
DESCRIPTION:Property ID# 576009\, Time: 11:00AM
SUMMARY:Auction for 
END:VEVENT
END:VCALENDAR
