BEGIN:VCALENDAR
VERSION:2.0
PRODID:icalendar-ruby
CALSCALE:GREGORIAN
BEGIN:VEVENT
DTSTAMP:20260423T144909Z
UID:f3c697d7-ae74-4bcf-b380-7b4d0790db65
DTSTART;VALUE=DATE:20240611
DESCRIPTION:Property ID# 576008\, Time: 12:00PM
SUMMARY:Auction for 
END:VEVENT
END:VCALENDAR
