BEGIN:VCALENDAR
VERSION:2.0
PRODID:icalendar-ruby
CALSCALE:GREGORIAN
BEGIN:VEVENT
DTSTAMP:20260423T092902Z
UID:25cc6923-8160-4195-8d2c-e1491c9e5402
DTSTART;VALUE=DATE:20240620
DESCRIPTION:Property ID# 575468\, Locatoin: 98 Moorhouse Ave\, Chch\, Time:
  1:38AM
SUMMARY:Auction for 
END:VEVENT
END:VCALENDAR
