BEGIN:VCALENDAR
VERSION:2.0
PRODID:icalendar-ruby
CALSCALE:GREGORIAN
BEGIN:VEVENT
DTSTAMP:20260425T195254Z
UID:e54c0ea5-06eb-4b18-92a6-935dba6d35f1
DTSTART;VALUE=DATE:20240417
DESCRIPTION:Property ID# 573291\, Time: 12:00PM
SUMMARY:Auction for 
END:VEVENT
END:VCALENDAR
