BEGIN:VCALENDAR
VERSION:2.0
PRODID:icalendar-ruby
CALSCALE:GREGORIAN
BEGIN:VEVENT
DTSTAMP:20260420T163310Z
UID:36891771-b4b6-4fe4-bfe7-7e449f97d4d1
DTSTART;VALUE=DATE:20231012
DESCRIPTION:Property ID# 563033\, Locatoin: Harcourts Grenadier 98 Moorhous
 e Avenue \, Time: 11:00AM
SUMMARY:Auction for 
END:VEVENT
END:VCALENDAR
