BEGIN:VCALENDAR
VERSION:2.0
PRODID:icalendar-ruby
CALSCALE:GREGORIAN
BEGIN:VEVENT
DTSTAMP:20260420T103818Z
UID:6b2e3ac7-42cc-43fb-bede-5ca9929d2b8c
DTSTART;VALUE=DATE:20230705
DESCRIPTION:Property ID# 558547\, Time: 4:00PM
SUMMARY:Auction for 
END:VEVENT
END:VCALENDAR
