BEGIN:VCALENDAR
VERSION:2.0
PRODID:icalendar-ruby
CALSCALE:GREGORIAN
BEGIN:VEVENT
DTSTAMP:20260425T111429Z
UID:2ebcc5a9-464b-422c-bc70-85cfa9c31167
DTSTART;VALUE=DATE:20221123
DESCRIPTION:Property ID# 546578\, Time: 2:00PM
SUMMARY:Auction for 
END:VEVENT
END:VCALENDAR
