BEGIN:VCALENDAR
VERSION:2.0
PRODID:icalendar-ruby
CALSCALE:GREGORIAN
BEGIN:VEVENT
DTSTAMP:20260425T143942Z
UID:fb5eda41-8c17-41d8-ac1e-e54ee4ae3d48
DTSTART;VALUE=DATE:20220309
DESCRIPTION:Property ID# 529094\, Time: 4:00PM
SUMMARY:Auction for 
END:VEVENT
END:VCALENDAR
