BEGIN:VCALENDAR
VERSION:2.0
PRODID:icalendar-ruby
CALSCALE:GREGORIAN
BEGIN:VEVENT
DTSTAMP:20260421T024246Z
UID:889118aa-432f-4e55-861b-8a0518464518
DTSTART;VALUE=DATE:20220302
DESCRIPTION:Property ID# 528167\, Time: 2:00PM
SUMMARY:Auction for 
END:VEVENT
END:VCALENDAR
