BEGIN:VCALENDAR
VERSION:2.0
PRODID:icalendar-ruby
CALSCALE:GREGORIAN
BEGIN:VEVENT
DTSTAMP:20260421T212838Z
UID:68bd1a9b-9b63-4ff3-99a6-5526676b541b
DTSTART;VALUE=DATE:20220216
DESCRIPTION:Property ID# 527734\, Time: 2:00PM
SUMMARY:Auction for 
END:VEVENT
END:VCALENDAR
