BEGIN:VCALENDAR
VERSION:2.0
PRODID:icalendar-ruby
CALSCALE:GREGORIAN
BEGIN:VEVENT
DTSTAMP:20260423T105716Z
UID:b5232289-3f14-4329-9ecf-9ae712dfe8cd
DTSTART;VALUE=DATE:20210630
DESCRIPTION:Property ID# 511599\, Time: 2:00PM
SUMMARY:Auction for 
END:VEVENT
END:VCALENDAR
