BEGIN:VCALENDAR
VERSION:2.0
PRODID:icalendar-ruby
CALSCALE:GREGORIAN
BEGIN:VEVENT
DTSTAMP:20260421T213204Z
UID:cfccd4f2-99b9-49d9-b0db-915b370e7587
DTSTART;VALUE=DATE:20210512
DESCRIPTION:Property ID# 507984\, Time: 2:00PM
SUMMARY:Auction for 
END:VEVENT
END:VCALENDAR
