BEGIN:VCALENDAR
VERSION:2.0
PRODID:icalendar-ruby
CALSCALE:GREGORIAN
BEGIN:VEVENT
DTSTAMP:20260425T181859Z
UID:13f7b5ba-2ab5-4aed-ac36-508711d51d8c
DTSTART;VALUE=DATE:20210506
DESCRIPTION:Property ID# 507390\, Time: 4:00PM
SUMMARY:Auction for 
END:VEVENT
END:VCALENDAR
