BEGIN:VCALENDAR
VERSION:2.0
PRODID:icalendar-ruby
CALSCALE:GREGORIAN
BEGIN:VEVENT
DTSTAMP:20260421T174626Z
UID:0989ca58-40b1-4c1d-980f-fdd8b5855e07
DTSTART;VALUE=DATE:20210310
DESCRIPTION:Property ID# 502103\, Time: 2:00PM
SUMMARY:Auction for 
END:VEVENT
END:VCALENDAR
