BEGIN:VCALENDAR
VERSION:2.0
PRODID:icalendar-ruby
CALSCALE:GREGORIAN
BEGIN:VEVENT
DTSTAMP:20260421T212250Z
UID:5ba4ce51-1881-4838-9a83-e45778fee5dc
DTSTART;VALUE=DATE:20201119
DESCRIPTION:Property ID# 493198\, Time: 11:00AM
SUMMARY:Auction for 
END:VEVENT
END:VCALENDAR
