BEGIN:VCALENDAR
VERSION:2.0
PRODID:icalendar-ruby
CALSCALE:GREGORIAN
BEGIN:VEVENT
DTSTAMP:20260423T112915Z
UID:cc41092c-ad34-44d0-97f6-d209d17f6fa0
DTSTART;VALUE=DATE:20200810
DESCRIPTION:Property ID# 486215\, Locatoin: Harcourts Holmwood\, 397 - 399 
 Ilam Road\, Ilam\, Time: 2:30PM
SUMMARY:Auction for 
END:VEVENT
END:VCALENDAR
