BEGIN:VCALENDAR
VERSION:2.0
PRODID:icalendar-ruby
CALSCALE:GREGORIAN
BEGIN:VEVENT
DTSTAMP:20260425T181823Z
UID:35936b1c-d224-4cce-a504-b833b4e7eb9b
DTSTART;VALUE=DATE:20191113
DESCRIPTION:Property ID# 465334\, Locatoin: All offers on or before 4pm\, W
 ednesday 13th November 2019 (unless sold prior).\, Time: 12:00PM
SUMMARY:Auction for 
END:VEVENT
END:VCALENDAR
